BEGIN:VCALENDAR
VERSION:2.0
PRODID:-//Ultra Fine - ECPv6.15.18//NONSGML v1.0//EN
CALSCALE:GREGORIAN
METHOD:PUBLISH
X-WR-CALNAME:Ultra Fine
X-ORIGINAL-URL:https://ultrafinepowder.com
X-WR-CALDESC:Events for Ultra Fine
REFRESH-INTERVAL;VALUE=DURATION:PT1H
X-Robots-Tag:noindex
X-PUBLISHED-TTL:PT1H
BEGIN:VTIMEZONE
TZID:UTC
BEGIN:STANDARD
TZOFFSETFROM:+0000
TZOFFSETTO:+0000
TZNAME:UTC
DTSTART:20230101T000000
END:STANDARD
END:VTIMEZONE
BEGIN:VEVENT
DTSTART;VALUE=DATE:20240616
DTEND;VALUE=DATE:20240620
DTSTAMP:20260419T105802
CREATED:20240821T195638Z
LAST-MODIFIED:20240821T195638Z
UID:532-1718496000-1718841599@ultrafinepowder.com
SUMMARY:PowderMet 2024 and AMPM 2024 Conferences
DESCRIPTION:Ultra Fine Specialty Products will be exhibiting at the  PowderMet2024 and AMPM2024 Conferences in Pittsburgh\, Pennsylvania from June 16th through June 19th and presenting on Properties of Ferromagnetic Powders. Our technical team will be in attendance to answer any questions you may have regarding our gas atomized alloy powders\, nickel powders and various flake products we produce and/or sell.  Our staff would welcome the opportunity to provide any assistance and technical service for your specific application.
URL:https://ultrafinepowder.com/event/powdermet-2024-and-ampm-2024-conferences/
LOCATION:David L. Lawrence Convention Center\, 1000 Fort Duquesne Blvd\, Pittsburgh\, PA\, 15222\, United States
END:VEVENT
BEGIN:VEVENT
DTSTART;VALUE=DATE:20240625
DTEND;VALUE=DATE:20240628
DTSTAMP:20260419T105802
CREATED:20240613T023513Z
LAST-MODIFIED:20240613T025941Z
UID:318-1719273600-1719532799@ultrafinepowder.com
SUMMARY:RAPID + TCT 2024
DESCRIPTION:We are very excited about being an exhibitor at RAPID + TCT in Los Angeles. This is North America’s largest additive manufacturing and industrial 3D printing event. \nThe three-day event will feature the latest in 3D-printing technology from the industry’s leading product and service providers\, a full schedule of speakers including a keynote series\, and over 125 hours of educational content. The expansive show floor will showcase over 400 exhibiting companies’ latest advancements. Start planning your trip to sunny Southern California to experience North America’s largest additive manufacturing and industrial 3D printing event! Come see us at Booth 1205.
URL:https://ultrafinepowder.com/event/rapid-tct-2024/
LOCATION:Los Angeles Convention Center\, 1201 S Figueroa St\, Los Angeles\, CA\, 90015\, United States
ATTACH;FMTTYPE=image/jpeg:https://ultrafinepowder.com/wp-content/uploads/2024/06/NM_24013-Booth_Rapid-v2-1.jpg
ORGANIZER;CN="Rapid + TCT":MAILTO:rapid.tct@sme.org
END:VEVENT
END:VCALENDAR