BEGIN:VCALENDAR
VERSION:2.0
PRODID:-//Ultra Fine - ECPv6.15.18//NONSGML v1.0//EN
CALSCALE:GREGORIAN
METHOD:PUBLISH
X-WR-CALNAME:Ultra Fine
X-ORIGINAL-URL:https://ultrafinepowder.com
X-WR-CALDESC:Events for Ultra Fine
REFRESH-INTERVAL;VALUE=DURATION:PT1H
X-Robots-Tag:noindex
X-PUBLISHED-TTL:PT1H
BEGIN:VTIMEZONE
TZID:America/Chicago
BEGIN:DAYLIGHT
TZOFFSETFROM:-0600
TZOFFSETTO:-0500
TZNAME:CDT
DTSTART:20250309T080000
END:DAYLIGHT
BEGIN:STANDARD
TZOFFSETFROM:-0500
TZOFFSETTO:-0600
TZNAME:CST
DTSTART:20251102T070000
END:STANDARD
BEGIN:DAYLIGHT
TZOFFSETFROM:-0600
TZOFFSETTO:-0500
TZNAME:CDT
DTSTART:20260308T080000
END:DAYLIGHT
BEGIN:STANDARD
TZOFFSETFROM:-0500
TZOFFSETTO:-0600
TZNAME:CST
DTSTART:20261101T070000
END:STANDARD
BEGIN:DAYLIGHT
TZOFFSETFROM:-0600
TZOFFSETTO:-0500
TZNAME:CDT
DTSTART:20270314T080000
END:DAYLIGHT
BEGIN:STANDARD
TZOFFSETFROM:-0500
TZOFFSETTO:-0600
TZNAME:CST
DTSTART:20271107T070000
END:STANDARD
END:VTIMEZONE
BEGIN:VEVENT
DTSTART;VALUE=DATE:20260203
DTEND;VALUE=DATE:20260206
DTSTAMP:20260419T145658
CREATED:20260129T164708Z
LAST-MODIFIED:20260129T164708Z
UID:1084-1770076800-1770335999@ultrafinepowder.com
SUMMARY:MILAM - Military Additive Manufacturing Summit & Technology Showcase
DESCRIPTION:We are excited to share that Ultra Fine will be attending the 10th Annual Military Additive Manufacturing Summit & Technology Showcase in Tampa\, Florida February 3-5\, the largest military\, aerospace\, defense\, and warfighting 3D printing event in North America. \nThis premier educational and professional development forum directly supports current DoD and Federal Government priorities\, advancing the integration of additive manufacturing across the Joint Force. The event reinforces the SECWAR directive to extend 3D printing and additive manufacturing capabilities to operational units by 2026. \nEach year\, the Summit brings together military leaders\, government agencies\, international partners\, and industry innovators to collaborate\, share insights\, and shape the future of defense manufacturing. \nIf you’re planning to attend\, please visit our booth #106\, so we can discuss our AM capabilities and metal powder solutions.
URL:https://ultrafinepowder.com/event/milam-military-additive-manufacturing-summit-technology-showcase/
LOCATION:Tampa Convention Center\, 333 S. Franklin\, Tampa Bay\, FL\, United States
ATTACH;FMTTYPE=image/jpeg:https://ultrafinepowder.com/wp-content/uploads/2026/01/NM_25001_MILAM_FB_1200_v1.jpg
END:VEVENT
BEGIN:VEVENT
DTSTART;VALUE=DATE:20260223
DTEND;VALUE=DATE:20260226
DTSTAMP:20260419T145658
CREATED:20260205T203617Z
LAST-MODIFIED:20260205T203617Z
UID:1090-1771804800-1772063999@ultrafinepowder.com
SUMMARY:MIM - International Conference on Injection Molding of Metals\, Ceramics and Carbides
DESCRIPTION:We are thrilled to share that Ultra Fine is heading to MIM2026\, the premier conference focused on Metal Injection Molding (MIM)\, Ceramic Injection Molding (CIM)\, and Cemented Carbide Injection Molding (CCIM). MIM2026 brings together industry leaders to explore new technologies\, share knowledge\, and drive innovation across injection molding and advanced materials manufacturing. \nAs specialists in precision-engineered metal powders\, our team looks forward to connecting with designers\, engineers\, manufacturers\, researchers\, and innovators who are shaping the future of high-performance components. From copper and cobalt/nickel superalloys to advanced iron-based steels\, we’re committed to supporting the next generation of manufacturing solutions. \nAttending MIM2026? Let’s connect. Please visit our booth and discuss how we can help you with your metal injection molding needs.
URL:https://ultrafinepowder.com/event/mim-international-conference-on-injection-molding-of-metals-ceramics-and-carbides/
LOCATION:DoubleTree by Hilton Jacksonville Airport\, 2101 Dixie Clipper Drive\, Jacksonville\, FL\, 32218\, United States
ATTACH;FMTTYPE=image/jpeg:https://ultrafinepowder.com/wp-content/uploads/2026/02/NM_25001_MIM_2026_FB_1200_v1_02.jpg
END:VEVENT
BEGIN:VEVENT
DTSTART;VALUE=DATE:20260224
DTEND;VALUE=DATE:20260227
DTSTAMP:20260419T145658
CREATED:20260205T214256Z
LAST-MODIFIED:20260206T134556Z
UID:1094-1771891200-1772150399@ultrafinepowder.com
SUMMARY:AMS - Additive Manufacturing Strategies
DESCRIPTION:Jeff Peterson\, with Ultra Fine will be attending the Additive Manufacturing Strategies (AMS)\, a 100% in-person conference\, taking place February 24–26\, 2026 in New York City. This global industry touchstone brings together additive manufacturing stakeholders from around the world to focus on the business of AM. \nAMS features high-impact panels and keynotes covering the most critical topics shaping the rapidly evolving additive manufacturing landscape. By convening industry leaders\, startups\, investors\, and financial institutions in a focused\, high-value networking environment\, AMS creates unmatched opportunities to connect capital\, innovation\, and strategy. \nIf you’re attending\, be sure to connect with Jeff Peterson\, President/CEO of Ultra Fine to discuss our AM capabilities and the metal powder solutions we provide.
URL:https://ultrafinepowder.com/event/ams-additive-manufacturing-strategies/
LOCATION:36 Battery Place
ATTACH;FMTTYPE=image/jpeg:https://ultrafinepowder.com/wp-content/uploads/2026/02/NM_25001_AMS_Show_FB_1200_v1b_01.jpg
END:VEVENT
BEGIN:VEVENT
DTSTART;VALUE=DATE:20260413
DTEND;VALUE=DATE:20260417
DTSTAMP:20260419T145658
CREATED:20260407T133758Z
LAST-MODIFIED:20260407T133758Z
UID:1210-1776038400-1776383999@ultrafinepowder.com
SUMMARY:RAPID + TCT Convention
DESCRIPTION:We’re excited to share that Ultra Fine Specialty Products will be exhibiting at RAPID + TCT—and we’d love to connect with you there. \nAs North America’s largest additive manufacturing and industrial 3D printing event\, RAPID + TCT brings together the very best in innovation\, technology\, and forward-thinking ideas. With 400+ exhibitors\, hands-on demonstrations\, and powerful conversations shaping the future of additive\, it’s the place to be. \nOur team will be on-site\, ready to talk about how our precision-engineered metal powders are helping push boundaries across additive manufacturing applications. Whether you’re exploring new materials\, solving production challenges\, or just looking to connect with others in the industry\, we’d genuinely enjoy the conversation. \nStop by our booth #2132\, say hello\, and let’s talk about what you’re working on.
URL:https://ultrafinepowder.com/event/rapid-tct-convention/
LOCATION:Thomas M. Menino Convention Center\, 415 Summer Street\, Boston\, MA\, 02210\, United States
ATTACH;FMTTYPE=image/jpeg:https://ultrafinepowder.com/wp-content/uploads/2026/04/NM_25001_Rapid3D_FB_1200_v1.jpg
END:VEVENT
BEGIN:VEVENT
DTSTART;VALUE=DATE:20260625
DTEND;VALUE=DATE:20260630
DTSTAMP:20260419T145658
CREATED:20260408T160555Z
LAST-MODIFIED:20260408T160555Z
UID:1215-1782345600-1782777599@ultrafinepowder.com
SUMMARY:World PM2026 l AMPM2026 l Tungsten2026
DESCRIPTION:Ultra Fine Specialty Products is proud to be attending WorldPM2026 / AMPM2026 / Tungsten2026\, the premier global conference for powder metallurgy\, particulate materials\, and additive manufacturing. Taking place June 25–29 in Montreal\, this event brings together leaders from industry\, government\, and academia to exchange knowledge\, explore emerging technologies\, and advance the future of metal powders and additive manufacturing. \nWith a world-class technical program and one of the largest exhibits in North America\, WorldPM2026 is a key platform for innovation and collaboration. \nOur team will be on-site and available to meet.\nIf you’re attending\, we welcome the opportunity to discuss your applications and how Ultra Fine’s advanced materials can support your work. Look for us at Booth #206! \n 
URL:https://ultrafinepowder.com/event/world-pm2026-l-ampm2026-l-tungsten2026/
LOCATION:Palais des Congres de Montreal\, 1001 Place Jean-Paul-Riopelle\, Montreal\, QC\, Canada
ATTACH;FMTTYPE=image/jpeg:https://ultrafinepowder.com/wp-content/uploads/2026/04/NM_25001_WorldPM_FB_1200_v1_UF.jpg
END:VEVENT
END:VCALENDAR